BEGIN:VCALENDAR
VERSION:2.0
PRODID:-//wp-events-plugin.com//7.2.3.1//EN
TZID:Europe/Berlin
X-WR-TIMEZONE:Europe/Berlin
BEGIN:VEVENT
UID:30@sietar-deutschland.de
DTSTART;TZID=Europe/Berlin:20230112T190000
DTEND;TZID=Europe/Berlin:20230112T203000
DTSTAMP:20230929T213000Z
URL:https://sietar-deutschland.de/events/was-wir-von-anderen-kulturen-lern
 en-koennen/
SUMMARY:SIETAR Regionalgruppentreffen Berlin-Brandenburg “Was wir von and
 eren Kulturen lernen können” mit G.G. Hiller
DESCRIPTION:Es ist soweit – zum Jahresauftakt und mit frischem Blick\, wa
 s 2023 alles kommt\, laden wir zu unserem Regionalgruppentreffen Berlin/ B
 randenburg ein. Habt ihr Lust\, euch wieder (online) zu treffen und an ein
 em inspirierenden Impuls und Diskussion zum Thema Kultur teilzunehmen? Dan
 n meldet euch an! Ihr seid herzlich dazu eingeladen. Wir haben Prof. Dr. G
 undula Gwenn Hiller eingeladen\, die ihr neues Buch vorstellt und uns Impu
 lse gibt. Interkulturelle Perspektiven auf die zentralen Herausforderungen
  unserer Zeit:...\n\nhttps://sietar-deutschland.de/events/was-wir-von-ande
 ren-kulturen-lernen-koennen/
ATTACH;FMTTYPE=image/jpeg:https://sietar-deutschland.de/wp-content/uploads
 /RG-Koeln-2-1.png
CATEGORIES:RG Berlin-Brandenburg
END:VEVENT
BEGIN:VTIMEZONE
TZID:Europe/Berlin
X-LIC-LOCATION:Europe/Berlin
BEGIN:STANDARD
DTSTART:20221030T020000
TZOFFSETFROM:+0200
TZOFFSETTO:+0100
TZNAME:CET
END:STANDARD
END:VTIMEZONE
END:VCALENDAR