BEGIN:VCALENDAR
VERSION:2.0
PRODID:-//wp-events-plugin.com//7.2.3.1//EN
TZID:Europe/Berlin
X-WR-TIMEZONE:Europe/Berlin
BEGIN:VEVENT
UID:34@sietar-deutschland.de
DTSTART;TZID=Europe/Berlin:20230420T200000
DTEND;TZID=Europe/Berlin:20230420T213000
DTSTAMP:20230929T221749Z
URL:https://sietar-deutschland.de/events/sietar-regionalgruppentreffen-ber
 lin-brandenburg-medium-podcast-wie-koennen-interkulturelle-trainerinnen-da
 von-profitieren/
SUMMARY:SIETAR Regionalgruppentreffen Berlin-Brandenburg „Medium Podcast:
  Wie können interkulturelle Trainer*innen davon profitieren?“
DESCRIPTION:Für unser Regionalgruppentreffen im April steht Folgendes auf 
 dem Programm: Podcast für/ in unserem interkulturellen Lern/Coaching und 
 Traininsgsetting. Podcast sind in aller Munde – warum nicht auch für un
 s interkulturelle Expert*innen? Ich habe Katerina Shapiro eingeladen\, die
  uns einen kurzen Impuls und Wissenswertes zum Thema Podcasts gibt. Anschl
 ießend wollen wir in Kleingruppen und in einer anschließenden Diskussion
  u.a. klären\, welche Chancen und Herausforderungen das Medium Podcast f
 ür interkulturelle Trainer*innen bietet. Interessiert? Dann meldet euch a
 n!...\n\nhttps://sietar-deutschland.de/events/sietar-regionalgruppentreffe
 n-berlin-brandenburg-medium-podcast-wie-koennen-interkulturelle-trainerinn
 en-davon-profitieren/
ATTACH;FMTTYPE=image/jpeg:https://sietar-deutschland.de/wp-content/uploads
 /Kopie-von-Online-Weiterbildung-1.png
CATEGORIES:RG Berlin-Brandenburg
END:VEVENT
BEGIN:VTIMEZONE
TZID:Europe/Berlin
X-LIC-LOCATION:Europe/Berlin
BEGIN:DAYLIGHT
DTSTART:20230326T030000
TZOFFSETFROM:+0100
TZOFFSETTO:+0200
TZNAME:CEST
END:DAYLIGHT
END:VTIMEZONE
END:VCALENDAR