BEGIN:VCALENDAR
VERSION:2.0
PRODID:-//wp-events-plugin.com//7.2.3.1//EN
TZID:Europe/Berlin
X-WR-TIMEZONE:Europe/Berlin
BEGIN:VEVENT
UID:143@sietar-deutschland.de
DTSTART;TZID=Europe/Berlin:20260428T180000
DTEND;TZID=Europe/Berlin:20260428T200000
DTSTAMP:20260320T110324Z
URL:https://sietar-deutschland.de/events/quo-vadis-regionalgruppe-berlin-b
 randenburg/
SUMMARY:Quo vadis Regionalgruppe Berlin-Brandenburg
DESCRIPTION:Liebe Interessent*innen und Mitglieder\, die Regionalgruppe Ber
 lin-Brandenburg trifft sich am 28.04. (Ort wird noch bekannt gegeben)\, um
  die aktuelle Lage der RG zu besprechen. Wir wollen zu aktuellen Themen mi
 t den Anwesenden Berliner*innen und Branburger*innen brainstormen\, diskut
 ieren und weiterdenken. Dabei machten wir eure Ideen hören: was wollen wi
 r etablieren? Welche Veranstaltungen wollen wir durchführen? Wie kann es 
 in Zukunft genau aussehen? Fühlt euch also eingeladen und kommt dazu! Bit
 te meldet euch bei Steffi für das...\n\nhttps://sietar-deutschland.de/eve
 nts/quo-vadis-regionalgruppe-berlin-brandenburg/
ATTACH;FMTTYPE=image/jpeg:https://sietar-deutschland.de/wp-content/uploads
 /RG-bERLIN.png
CATEGORIES:RG Berlin-Brandenburg
END:VEVENT
BEGIN:VTIMEZONE
TZID:Europe/Berlin
X-LIC-LOCATION:Europe/Berlin
BEGIN:DAYLIGHT
DTSTART:20260329T030000
TZOFFSETFROM:+0100
TZOFFSETTO:+0200
TZNAME:CEST
END:DAYLIGHT
END:VTIMEZONE
END:VCALENDAR