BEGIN:VCALENDAR
VERSION:2.0
PRODID:-//wp-events-plugin.com//7.2.3.1//EN
TZID:Europe/Berlin
X-WR-TIMEZONE:Europe/Berlin
BEGIN:VEVENT
UID:72@sietar-deutschland.de
DTSTART;TZID=Europe/Berlin:20240625T190000
DTEND;TZID=Europe/Berlin:20240625T203000
DTSTAMP:20240605T073913Z
URL:https://sietar-deutschland.de/events/growing-your-own-multilogue/
SUMMARY:Growing your own multilogue - mit Nikola Hale
DESCRIPTION:"Growing your own multilogue" - Impulsvortrag mit Nikola Hale Z
 usammen mit Nikola Hale laden wir Euch ein\, gemeinsam die Essenz von Mul
 tilogue zu erforschen. Das ist ihr Beitrag zur Ermöglichung besserer und
  belebender Lebensräume und Arbeitsplätze für uns und die Menschen\, m
 it denen wir in Kontakt kommen. Das Event ist ein gemeinsames Event der 
 Regionalgruppe Stuttgart\, Frankfurt und Berlin-Brandenburg. Die Veranstal
 tungsinfos im Überblick Regionalgruppen: Stuttgart\, Frankfurt &amp\; Ber
 lin-Brandenburg Datum und Uhrzeit: Dienstag\, 25. Juni 2024 19:00-20:30 Uh
 r (+ zusätzliche 30...\n\nhttps://sietar-deutschland.de/events/growing-yo
 ur-own-multilogue/
ATTACH;FMTTYPE=image/jpeg:https://sietar-deutschland.de/wp-content/uploads
 /Multilogue-2.png
CATEGORIES:RG Berlin-Brandenburg,RG Frankfurt/Rhein-Main/Unterfranken,RG
 Stuttgart
END:VEVENT
BEGIN:VTIMEZONE
TZID:Europe/Berlin
X-LIC-LOCATION:Europe/Berlin
BEGIN:DAYLIGHT
DTSTART:20240331T030000
TZOFFSETFROM:+0100
TZOFFSETTO:+0200
TZNAME:CEST
END:DAYLIGHT
END:VTIMEZONE
END:VCALENDAR