BEGIN:VCALENDAR
VERSION:2.0
PRODID:-//wp-events-plugin.com//7.2.3.1//EN
TZID:Europe/Berlin
X-WR-TIMEZONE:Europe/Berlin
BEGIN:VEVENT
UID:50@sietar-deutschland.de
DTSTART;TZID=Europe/Berlin:20231121T180000
DTEND;TZID=Europe/Berlin:20231121T193000
DTSTAMP:20231107T061134Z
URL:https://sietar-deutschland.de/events/ecilp-european-ceritifcate-for-in
 tercultural-learning-professionals/
SUMMARY:ECILP - European Ceritifcate for Intercultural Learning Professiona
 ls
DESCRIPTION:ECILP - ein Selbstevaluierungsinstrument für alle interkultur
 ell Aktiven. ECILP\, kurz für European Ceritifcate for Intercultural Lear
 ning Professionals\, wurde von 2020-23 mit einem internationalen Team auf 
 wissenschaftlicher Basis konzipiert. Das Verfahren zur Selbstevaluierung f
 ür Berufstätige im interkulturellen Kontext wurde von SIETAR Deutschland
  e.V. in einem von der EU geförderten Projekt entwickelt. Ob Trainer*in\
 , Moderator*in\, Lehrende\, Mediator*in\, Coach o.ä. – alle Interessier
 ten können mit ECILP ihre interkulturellen Kompetenzen selbst evaluieren 
 und analysieren. Es ist online zugänglich und steht...\n\nhttps://sietar-
 deutschland.de/events/ecilp-european-ceritifcate-for-intercultural-learnin
 g-professionals/
ATTACH;FMTTYPE=image/jpeg:https://sietar-deutschland.de/wp-content/uploads
 /ECILP-e1705677333762.png
CATEGORIES:RG Berlin-Brandenburg
END:VEVENT
BEGIN:VTIMEZONE
TZID:Europe/Berlin
X-LIC-LOCATION:Europe/Berlin
BEGIN:STANDARD
DTSTART:20231029T020000
TZOFFSETFROM:+0200
TZOFFSETTO:+0100
TZNAME:CET
END:STANDARD
END:VTIMEZONE
END:VCALENDAR